BEGIN:VCALENDAR
VERSION:2.0
PRODID:-//Parramatta - ECPv4.6.23//NONSGML v1.0//EN
CALSCALE:GREGORIAN
METHOD:PUBLISH
X-WR-CALNAME:Parramatta
X-ORIGINAL-URL:http://plac.org.au
X-WR-CALDESC:Events for Parramatta
BEGIN:VEVENT
DTSTART;VALUE=DATE:20190302
DTEND;VALUE=DATE:20190304
DTSTAMP:20190227T185903
CREATED:20180726T130554Z
LAST-MODIFIED:20180726T131009Z
UID:1919-1551484800-1551657599@plac.org.au
SUMMARY:State Multi Event Championships
DESCRIPTION:The State Multi Event Championships will be held on March 2-3\, 2019. \nFurther details and the program for the weekend will be published closer to the date. \n
URL:http://plac.org.au/event/state-multi-2019/
END:VEVENT
BEGIN:VEVENT
DTSTART;VALUE=DATE:20190315
DTEND;VALUE=DATE:20190318
DTSTAMP:20190227T185903
CREATED:20180726T125918Z
LAST-MODIFIED:20180726T125918Z
UID:1914-1552608000-1552867199@plac.org.au
SUMMARY:State Track and Field Championships
DESCRIPTION:The State Track and Field Championships will be held on March 15-17\, 2019 at Sydney Olympic Park Athletic Centre. \nFurther details and the program for the weekend will be published closer to the date. \n
URL:http://plac.org.au/event/state-2018-2019/
LOCATION:Sydney Olympic Park Athletic Centre\, Edwin Flack Avenue\, Sydney Olympic Park\, NSW\, 2127\, Australia
END:VEVENT
END:VCALENDAR